<?xml version="1.0" encoding="UTF-8" standalone="no"?>
<metadata xml:lang="en">
<Esri>
<CreaDate>20190215</CreaDate>
<CreaTime>17064100</CreaTime>
<ArcGISFormat>1.0</ArcGISFormat>
<SyncOnce>FALSE</SyncOnce>
<DataProperties>
<LayerFile>{"type":"CIMLayerDocument","version":"2.3.0","build":15769,"layers":["CIMPATH=map/sd__dem_hillshade_img.xml"],"layerDefinitions":[{"type":"CIMRasterLayer","name":"SD__DEM_Hillshade.img","uRI":"CIMPATH=map/sd__dem_hillshade_img.xml","sourceModifiedTime":{"type":"TimeInstant"},"useSourceMetadata":true,"description":"SD__DEM_Hillshade.img","layerElevation":{"type":"CIMLayerElevationSurface","mapElevationID":"{7A95827D-10AD-4C1C-BB61-0E1C4BC28849}"},"expanded":true,"layerType":"Operational","showLegends":true,"visibility":true,"displayCacheType":"Permanent","maxDisplayCacheAge":5,"showPopups":true,"serviceLayerID":-1,"refreshRate":-1,"refreshRateUnit":"esriTimeUnitsSeconds","dataConnection":{"type":"CIMStandardDataConnection","workspaceConnectionString":"DATABASE=","workspaceFactory":"Raster","dataset":"SD__DEM_Hillshade.img","datasetType":"esriDTRasterDataset"},"colorizer":{"type":"CIMRasterStretchColorizer","resamplingType":"NearestNeighbor","colorRamp":{"type":"CIMMultipartColorRamp","colorRamps":[{"type":"CIMPolarContinuousColorRamp","fromColor":{"type":"CIMRGBColor","values":[38,41,54,100]},"toColor":{"type":"CIMRGBColor","values":[79,82,90,100]},"interpolationSpace":"HSV","polarDirection":"Auto"},{"type":"CIMPolarContinuousColorRamp","fromColor":{"type":"CIMRGBColor","values":[79,82,90,100]},"toColor":{"type":"CIMRGBColor","values":[156,156,156,100]},"interpolationSpace":"HSV","polarDirection":"Auto"},{"type":"CIMPolarContinuousColorRamp","fromColor":{"type":"CIMRGBColor","values":[156,156,156,100]},"toColor":{"type":"CIMRGBColor","values":[253,253,241,100]},"interpolationSpace":"HSV","polarDirection":"Auto"}],"weights":[26.8000000000000007,23.8000000000000007,49.5]},"colorScheme":"Black 
to White","customStretchMax":1,"gammaValue":1,"hillshadeZFactor":1,"maxPercent":2,"minPercent":2,"standardDeviationParam":2,"statsType":"Dataset","stretchClasses":[{"type":"CIMRasterStretchClass","label":"0"},{"type":"CIMRasterStretchClass","value":127},{"type":"CIMRasterStretchClass","label":"254","value":254}],"stretchStats":{"type":"StatsHistogram","min":0,"max":254,"mean":169.426130472839986,"stddev":43.2015571145829966,"limitMin":0,"limitMax":254,"histogram":[6775853,248567,257873,267855,278191,288527,299443,310644,322543,334590,347754,361082,374638,388598,403893,419209,435768,452107,469475,487107,505834,524695,544523,565471,586037,608308,631233,655078,679500,704341,730665,757640,784520,813387,842532,872043,902158,933481,966375,998782,1032835,1066790,1101044,1137008,1173241,1210402,1247974,1286982,1326247,1366092,1406159,1446979,1488053,1529692,1572234,1614206,1657516,1702270,1747661,1792637,1838226,1884017,1930237,1978763,2027046,2076066,2125075,2174962,2225644,2279035,2331076,2384356,2438843,2494236,2548374,2605426,2663058,2720098,2777642,2836429,2895363,2954215,3013746,3073482,3134372,3194540,3255515,3318549,3381217,3443658,3507745,3570846,3635361,3700873,3768376,3835537,3904690,3971935,4042512,4111968,4183951,4254822,4328546,4402964,4477057,4551899,4627735,4706014,4782985,4860274,4941199,5022915,5105041,5189455,5274510,5361478,5450854,5539053,5631851,5725500,5819254,5918788,6016553,6117634,6223646,6329824,6438076,6550178,6665086,6784227,6904482,7030374,7157834,7290857,7425664,7567612,7712712,7861542,8019694,8180392,8350574,8523944,8704568,8894426,9089369,9295983,9511724,9738228,9973278,10224957,10487540,10766539,11058671,11370375,11702098,12054521,12433792,12837051,13276264,13745121,14253396,14802635,15400606,16052532,16766991,17549619,18419808,19386029,20474043,21709280,23119935,24753603,26665813,28960499,31772967,35251212,39493008,44404664,49623077,54523010,76933497,51439113,45753609,40539359,36095708,32454823,29493593,27071964,25073412,23389850,21956159,20706234,19618435,18661340,17808987,17033245,16342940,15714768,15147556,14626384,14149662,13710848,13306839,12934020,12585484,12259710,11953820,11667749,11392381,11135232,10890474,10654648,10429513,10213906,10005938,9803510,9610462,9422954,9239177,9057374,8881482,8706662,8535992,8366081,8203588,8040260,7877206,7719150,7561454,7405316,7248169,7086061,6925782,6762093,6596043,6426870,6253738,6075532,5893944,5706992,5512887,5308805,5095235,4866883,4631909,4393343,4147607,3895031,3635889,3363036,3070796,2760890,2436136,2100067,0,1764308],"nsamples":2147483647,"resolution":0.99607843137254903},"stretchType":"MinimumMaximum"},"attributeTable":{"type":"CIMRasterTable","displayField":"Value","editable":true}}]}</LayerFile>
<itemProps>
<itemName Sync="TRUE">SD__DEM_Hillshade.img</itemName>
<nativeExtBox>
<westBL Sync="TRUE">6150079.999876</westBL>
<eastBL Sync="TRUE">6614999.999876</eastBL>
<southBL Sync="TRUE">1761209.999931</southBL>
<northBL Sync="TRUE">2129999.999931</northBL>
<exTypeCode Sync="TRUE">1</exTypeCode>
</nativeExtBox>
<imsContentType Sync="TRUE">002</imsContentType>
</itemProps>
<coordRef>
<type Sync="TRUE">Projected</type>
<geogcsn Sync="TRUE">GCS_NAD_1983_2011</geogcsn>
<csUnits Sync="TRUE">Linear Unit: Foot_US (0.304801)</csUnits>
<projcsn Sync="TRUE">NAD_1983_2011_StatePlane_California_VI_FIPS_0406_Ft_US</projcsn>
<peXml Sync="TRUE">&lt;ProjectedCoordinateSystem xsi:type='typens:ProjectedCoordinateSystem' xmlns:xsi='http://www.w3.org/2001/XMLSchema-instance' xmlns:xs='http://www.w3.org/2001/XMLSchema' xmlns:typens='http://www.esri.com/schemas/ArcGIS/10.6'&gt;&lt;WKT&gt;PROJCS[&amp;quot;NAD_1983_2011_StatePlane_California_VI_FIPS_0406_Ft_US&amp;quot;,GEOGCS[&amp;quot;GCS_NAD_1983_2011&amp;quot;,DATUM[&amp;quot;D_NAD_1983_2011&amp;quot;,SPHEROID[&amp;quot;GRS_1980&amp;quot;,6378137.0,298.257222101]],PRIMEM[&amp;quot;Greenwich&amp;quot;,0.0],UNIT[&amp;quot;Degree&amp;quot;,0.0174532925199433]],PROJECTION[&amp;quot;Lambert_Conformal_Conic&amp;quot;],PARAMETER[&amp;quot;False_Easting&amp;quot;,6561666.666666666],PARAMETER[&amp;quot;False_Northing&amp;quot;,1640416.666666667],PARAMETER[&amp;quot;Central_Meridian&amp;quot;,-116.25],PARAMETER[&amp;quot;Standard_Parallel_1&amp;quot;,32.78333333333333],PARAMETER[&amp;quot;Standard_Parallel_2&amp;quot;,33.88333333333333],PARAMETER[&amp;quot;Latitude_Of_Origin&amp;quot;,32.16666666666666],UNIT[&amp;quot;Foot_US&amp;quot;,0.3048006096012192]],VERTCS[&amp;quot;NAVD_1988_Foot_US&amp;quot;,VDATUM[&amp;quot;North_American_Vertical_Datum_1988&amp;quot;],PARAMETER[&amp;quot;Vertical_Shift&amp;quot;,0.0],PARAMETER[&amp;quot;Direction&amp;quot;,1.0],UNIT[&amp;quot;Foot_US&amp;quot;,0.3048006096012192]]&lt;/WKT&gt;&lt;XOrigin&gt;-118608900&lt;/XOrigin&gt;&lt;YOrigin&gt;-91259500&lt;/YOrigin&gt;&lt;XYScale&gt;35979706.307677768&lt;/XYScale&gt;&lt;ZOrigin&gt;-100000&lt;/ZOrigin&gt;&lt;ZScale&gt;10000&lt;/ZScale&gt;&lt;MOrigin&gt;-100000&lt;/MOrigin&gt;&lt;MScale&gt;10000&lt;/MScale&gt;&lt;XYTolerance&gt;0.0032808333333333331&lt;/XYTolerance&gt;&lt;ZTolerance&gt;0.001&lt;/ZTolerance&gt;&lt;MTolerance&gt;0.001&lt;/MTolerance&gt;&lt;HighPrecision&gt;true&lt;/HighPrecision&gt;&lt;WKID&gt;103008&lt;/WKID&gt;&lt;LatestWKID&gt;6426&lt;/LatestWKID&gt;&lt;VCSWKID&gt;105703&lt;/VCSWKID&gt;&lt;LatestVCSWKID&gt;6360&lt;/LatestVCSWKID&gt;&lt;/ProjectedCoordinateSystem&gt;</peXml>
</coordRef>
<RasterProperties>
<General>
<PixelDepth Sync="TRUE">8</PixelDepth>
<HasColormap Sync="TRUE">FALSE</HasColormap>
<CompressionType Sync="TRUE">None</CompressionType>
<NumBands Sync="TRUE">1</NumBands>
<Format Sync="TRUE">IMAGINE Image</Format>
<HasPyramids Sync="TRUE">FALSE</HasPyramids>
<SourceType Sync="TRUE">continuous</SourceType>
<PixelType Sync="TRUE">unsigned integer</PixelType>
<NoDataValue Sync="TRUE">255</NoDataValue>
</General>
</RasterProperties>
</DataProperties>
<SyncDate>20190219</SyncDate>
<SyncTime>10463200</SyncTime>
<ModDate>20190219</ModDate>
<ModTime>10493700</ModTime>
<scaleRange>
<minScale>150000000</minScale>
<maxScale>5000</maxScale>
</scaleRange>
<ArcGISProfile>RGDW_Publication</ArcGISProfile>
</Esri>
<eainfo>
<detailed Name="SD__DEM_Hillshade.img.vat">
<enttyp>
<enttypl Sync="TRUE">SD__DEM_Hillshade.img.vat</enttypl>
<enttypt Sync="TRUE">Table</enttypt>
<enttypc Sync="TRUE">255</enttypc>
</enttyp>
<attr>
<attrlabl Sync="TRUE">OID</attrlabl>
<attalias Sync="TRUE">OID</attalias>
<attrtype Sync="TRUE">OID</attrtype>
<attwidth Sync="TRUE">4</attwidth>
<atprecis Sync="TRUE">0</atprecis>
<attscale Sync="TRUE">0</attscale>
<attrdef Sync="TRUE">Internal feature number.</attrdef>
<attrdefs Sync="TRUE">Esri</attrdefs>
<attrdomv>
<udom Sync="TRUE">Sequential unique whole numbers that are automatically generated.</udom>
</attrdomv>
</attr>
<attr>
<attrlabl Sync="TRUE">Value</attrlabl>
<attalias Sync="TRUE">Value</attalias>
<attrtype Sync="TRUE">Integer</attrtype>
<attwidth Sync="TRUE">10</attwidth>
<atprecis Sync="TRUE">10</atprecis>
<attscale Sync="TRUE">0</attscale>
</attr>
<attr>
<attrlabl Sync="TRUE">Count</attrlabl>
<attalias Sync="TRUE">Count</attalias>
<attrtype Sync="TRUE">Double</attrtype>
<attwidth Sync="TRUE">19</attwidth>
<atprecis Sync="TRUE">0</atprecis>
<attscale Sync="TRUE">0</attscale>
</attr>
</detailed>
</eainfo>
<mdLang>
<languageCode value="eng">
</languageCode>
<countryCode Sync="TRUE" value="USA">
</countryCode>
</mdLang>
<mdChar>
<CharSetCd value="004">
</CharSetCd>
</mdChar>
<mdHrLv>
<ScopeCd value="005">
</ScopeCd>
</mdHrLv>
<mdHrLvName Sync="TRUE">dataset</mdHrLvName>
<mdDateSt Sync="TRUE">20190219</mdDateSt>
<mdStanName>ArcGIS Metadata</mdStanName>
<mdStanVer>1.0</mdStanVer>
<distInfo>
<distributor>
<distorCont>
<rpIndName>Pat Landrum</rpIndName>
<rpOrgName>SANDAG 401 B Street, Suite 800 San Diego, CA 92101</rpOrgName>
<rpPosName>Manager of Data Solutions</rpPosName>
<role>
<RoleCd value="010">
</RoleCd>
</role>
</distorCont>
</distributor>
<distFormat>
<formatName Sync="TRUE">Raster Dataset</formatName>
</distFormat>
</distInfo>
<dataIdInfo>
<idCitation>
<resTitle Sync="TRUE">SD__DEM_Hillshade.img</resTitle>
<date>
<createDate>2018-07-06T00:00:00</createDate>
<pubDate>2018-08-15T00:00:00</pubDate>
</date>
<presForm>
<PresFormCd value="005">
</PresFormCd>
</presForm>
</idCitation>
<idAbs>Product: Hillshade created using merged Digital Elevation Model (DEM) data derived from Quality Level 2 LiDAR (USGS Base Specification) acquired through the San Diego regional partnership acquisition projects in 2014 and 2017, and the FEMA acquisition project in 2015. Class 2 (ground) LiDAR points in conjunction with the hydro breaklines were used to create 2.5-foot hydro-flattened raster DEMs from which contour lines were generated.Geographic Extent: San Diego County in southwestern California, covering approximately 4,475 total square miles.
Dataset Descriptions:
2014: The San Diego, California 2014 LiDAR project called for the Planning, Acquisition, processing and derivative products of LIDAR data to be collected at a nominal pulse spacing (NPS) of 0.7 meter. Project specifications are based on the U.S. Geological Survey National Geospatial Program Base LIDAR Specification, Version 1. The data was developed based on a horizontal projection/datum of NAD83, State Plane California VI, Survey Feet and vertical datum of NAVD1988 (GEOID12A), Survey Feet. LiDAR data was delivered in RAW flight line swath format, processed to create Classified LAS 1.2 Files formatted to 1565 individual 5000 ft x 5000 ft tiles, and corresponding Intensity Images and Bare Earth DEMs tiled to the same 5000 ft x 5000 ft schema, and Breaklines in Esri geodatabase format. Ground Conditions: LiDAR was collected in late 2014 and early 2015, while no snow was on the ground and rivers were at or below normal levels. In order to post process the LiDAR data to meet task order specifications, Photo Science established a total of 88 QA calibration control points and 80 Land Cover control points that were used to calibrate the LIDAR to known ground locations established throughout the San Diego, California project area.
2015: The San Diego, California 2015 QL2 LiDAR project called for the planning and acquisition of LIDAR data to be collected at a nominal pulse spacing (NPS) of 0.7 meter. Project specifications are based on the U.S. Geological Survey National Geospatial Program Base LIDAR Specification, Version 1.2. The data was developed based on a horizontal projection/datum of NAD83 (2011) State Plane California VI, US survey feet and vertical datum of NAVD1988 (GEOID12B), US survey feet. LiDAR data was delivered in RAW flight line swath format, processed to create Classified LAS 1.4 Files formatted to 2,045 individual 2,500-foot x 2,500-foot tiles, corresponding 2.5-ft hydro-flattened bare-earth DEMs tiled to the same 2,500-foot x 2,500-foot schema in ERDAS .IMG format, and Breaklines in Esri file geodatabase format. Ground Conditions: LiDAR was collected in late 2015, while no snow was on the ground and rivers were at or below normal levels. In order to post process the LiDAR data to meet task order specifications, Quantum Spatial established 39 calibration control points in order to calibrate the LIDAR to known ground locations established throughout the project area. The accuracy of the data was checked with 119 QC points.
2017: The Eastern San Diego County, California 2017 QL2 Lidar project called for the planning, acquisition, processing, and derivative products of lidar data to be collected at a nominal pulse spacing (NPS) of 0.7 meters. Project specifications are based on the U.S. Geological Survey National Geospatial Program Base Lidar Specification, Version 1.2. The data was developed based on a horizontal projection/datum of NAD83 (2011), State Plane California Zone VI, US survey feet and vertical datum of NAVD88 (GEOID12B), US survey feet. Lidar data was delivered as flightline-extent unclassified LAS swaths, as processed Classified LAS 1.4 files formatted to 1,710 individual 5,000-foot x 5,000-foot pilot tiles; as tiled intensity imagery, and as tiled bare earth DEMs, all tiled to the same schema. Continuous breaklines were produced in Esri file geodatabase format. Building footprints were produced in Esri file geodatabase format. Tiled contours with a 2-foot interval were produced in Esri file geodatabase format. Ground Conditions: Lidar was partially collected in fall/winter of late 2016/early 2017, while no snow was on the ground and rivers were at or below normal levels. In order to post process the lidar data to meet task order specifications and meet ASPRS vertical accuracy guidelines, Quantum Spatial, Inc. established a total of 28 ground control points that were used to calibrate the lidar to known ground locations established throughout the project area. An additional 116 independent accuracy checkpoints, 64 in Bare Earth and Urban landcovers (64 NVA points), 52 in the Forest, Shrubs, and Tall Weeds category (52 VVA points), were used to assess the vertical accuracy of the data. These checkpoints were not used to calibrate or post process the data.
Special Considerations: The data covering the Borrego Valley and surrounding area (Min X: 6499999.9998755, Min Y: 2014999.99983956, Max X: 6559999.999954, Max Y: 2084999.99993114) was developed by processing the swath LiDAR data from the 2017 Eastern San Diego County project, and merging with the 2015 Borrego Valley LiDAR data to create a new DEM. This was necessary to fill in the gap areas between the two acquisition projects. The four DEM datasets were then merged in the following order: Borrego Valley DEM --&gt; 2017 Eastern San Diego DEM --&gt; FEMA 2015 Central San Diego DEM --&gt; 2014 Western San Diego DEM.SANDAG has determined that this merged regionwide DEM is adequate for cartographic purposes. For analysis purposes, users may elect to use the original source data from each project. Refer to the metadata for each acquisition project for additional details.</idAbs>
<idPurp>Hillshade created using merged Digital Elevation Model (DEM) data derived from Quality Level 2 LiDAR (USGS Base Specification) acquired via regional acquisition projects from 2014 - 2017.</idPurp>
<idCredit>SANDAG, FEMA, County of San Diego</idCredit>
<idPoC>
<rpIndName>Pat Landrum</rpIndName>
<rpOrgName>SANDAG 401 B Street, Suite 800 San Diego, CA 92101</rpOrgName>
<rpPosName>Manager of Data Solutions</rpPosName>
<role>
<RoleCd value="010">
</RoleCd>
</role>
</idPoC>
<otherKeys>
<keyword>SANDAG</keyword>
<keyword>LiDAR</keyword>
<keyword>Elevation</keyword>
<keyword>San Diego</keyword>
<keyword>DEM</keyword>
</otherKeys>
<searchKeys>
<keyword>SANDAG</keyword>
<keyword>LiDAR</keyword>
<keyword>Elevation</keyword>
<keyword>San Diego</keyword>
<keyword>DEM</keyword>
</searchKeys>
<resConst>
<Consts>
<useLimit>Data Disclaimer: While the data have been tested for accuracy and are properly functioning, SANDAG disclaims any responsibility for the accuracy or correctness of the data.THE FOREGOING WARRANTY IS EXCLUSIVE AND IN LIEU OF ALL OTHER WARRANTIES OR MERCHANTABILITY, FITNESS FOR PARTICULAR PURPOSE AND/OR ANY OTHER TYPE WHETHER EXPRESSED OR IMPLIED.In no event shall SANDAG become liable to users of these data, or any other party, for any loss or damages, consequential or otherwise, including but not limited to time, money, or goodwill, arising from the use, operation or modification of the data. In using these data, users further agree to indemnify, defend, and hold harmless SANDAG for any and all liability of any nature arising out of or resulting from the lack of accuracy or correctness of the data, or the use of the data.To assist SANDAG in the maintenance of the data, users should provide SANDAG, at the address shown below, information concerning errors or discrepancies found in using the data.SANDAGAttn: GIS Project Manager401 "B" Street, Suite 800San Diego, CA 92101gismaster@sandag.orgIn using the data, users should be aware that these data are generalized and not parcel based, and were created for use in regional planning projects.Please acknowledge SANDAG as a source when SANDAG data are used in the preparation of reports, papers, publications, maps, and other products.To ensure that appropriate documentation and data limitations are provided, these databases should not be redistributed to any other parties.</useLimit>
</Consts>
</resConst>
<spatRpType>
<SpatRepTypCd value="002">
</SpatRepTypCd>
</spatRpType>
<dataLang>
<languageCode value="eng">
</languageCode>
<countryCode Sync="TRUE" value="USA">
</countryCode>
</dataLang>
<dataChar>
<CharSetCd value="004">
</CharSetCd>
</dataChar>
<envirDesc Sync="TRUE"> Version 6.2 (Build 9200) ; Esri ArcGIS 10.6.1.9270</envirDesc>
<dataExt>
<exDesc>San Diego County</exDesc>
<geoEle>
<GeoBndBox>
<exTypeCode>true</exTypeCode>
<westBL>-117.600239</westBL>
<eastBL>-116.075027</eastBL>
<southBL>32.491404</southBL>
<northBL>33.512213</northBL>
</GeoBndBox>
</geoEle>
</dataExt>
<dataExt>
<geoEle>
<GeoBndBox esriExtentType="search">
<exTypeCode Sync="TRUE">1</exTypeCode>
<westBL Sync="TRUE">-117.600239</westBL>
<eastBL Sync="TRUE">-116.075027</eastBL>
<northBL Sync="TRUE">33.512213</northBL>
<southBL Sync="TRUE">32.491404</southBL>
</GeoBndBox>
</geoEle>
</dataExt>
<tpCat>
<TopicCatCd value="006">
</TopicCatCd>
</tpCat>
</dataIdInfo>
<spatRepInfo>
<Georect>
<numDims Sync="TRUE">2</numDims>
<axisDimension type="002">
<dimSize Sync="TRUE">185968</dimSize>
<dimResol>
<value Sync="TRUE" uom="ftUS">2.500000</value>
</dimResol>
</axisDimension>
<axisDimension type="001">
<dimSize Sync="TRUE">147516</dimSize>
<dimResol>
<value Sync="TRUE" uom="ftUS">2.500000</value>
</dimResol>
</axisDimension>
<cellGeo>
<CellGeoCd Sync="TRUE" value="002">
</CellGeoCd>
</cellGeo>
<tranParaAv Sync="TRUE">1</tranParaAv>
<chkPtAv Sync="TRUE">0</chkPtAv>
<cornerPts gmlID="ID0EKDAC">
<pos Sync="TRUE">6150079.999876 1761209.999931</pos>
</cornerPts>
<cornerPts gmlID="ID0EEDAC">
<pos Sync="TRUE">6150079.999876 2129999.999931</pos>
</cornerPts>
<cornerPts gmlID="ID0EWDAC">
<pos Sync="TRUE">6614999.999876 2129999.999931</pos>
</cornerPts>
<cornerPts gmlID="ID0EQDAC">
<pos Sync="TRUE">6614999.999876 1761209.999931</pos>
</cornerPts>
<centerPt gmlID="ID0E3DAC">
<pos Sync="TRUE">6382539.999876 1945604.999931</pos>
</centerPt>
<ptInPixel>
<PixOrientCd Sync="TRUE" value="001">
</PixOrientCd>
</ptInPixel>
</Georect>
</spatRepInfo>
<refSysInfo>
<RefSystem>
<refSysID>
<identCode code="6426">
</identCode>
<idCodeSpace Sync="TRUE">EPSG</idCodeSpace>
<idVersion Sync="TRUE">8.9.3(10.3.1)</idVersion>
</refSysID>
</RefSystem>
</refSysInfo>
<contInfo>
<ImgDesc>
<contentTyp>
<ContentTypCd Sync="TRUE" value="001">
</ContentTypCd>
</contentTyp>
<covDim>
<Band>
<dimDescrp Sync="TRUE">Layer_1</dimDescrp>
<maxVal Sync="TRUE">254.000000</maxVal>
<minVal Sync="TRUE">0.000000</minVal>
<valUnit>
<UOM gmlID="ID0EEGAC" type="length">
<gmlIdent codeSpace="GML_UomSymbol">Unified Code of Units of Measure</gmlIdent>
</UOM>
</valUnit>
<bitsPerVal Sync="TRUE">8</bitsPerVal>
</Band>
</covDim>
</ImgDesc>
</contInfo>
</metadata>
