{ "currentVersion": 10.81, "serviceDescription": "
<br><\/span><\/p> Merged Digital Elevation Model (DEM) data derived from Quality Level 2 LiDAR (USGS Base Specification) LiDAR acquired through the San Diego regional partnership acquisition projects in 2014 and 2016/2017, and the FEMA acquisition project in 2015. Class 2 (ground) LiDAR points in conjunction with the hydro breaklines were used to create 2.5-foot hydro-flattened raster DEMs from which contour lines were generated.Geographic Extent:San Diego County in southwestern California, covering approximately 4,475 total square miles.<br><\/span><\/p> <br><\/span><\/p> Dataset Descriptions:<br><\/span><\/p> <br><\/span><\/p> 2014:<br><\/span><\/p> <br><\/span><\/p> The San Diego, California 2014 LiDAR project called for the Planning, Acquisition, processing and derivative products of LIDAR data to be collected at a nominal pulse spacing (NPS) of 0.7 meter. Project specifications are based on the U.S. Geological Survey National Geospatial Program Base LIDAR Specification, Version 1. The data was developed based on a horizontal projection/datum of NAD83, State Plane California VI, Survey Feet and vertical datum of NAVD1988 (GEOID12A), Survey Feet. LiDAR data was delivered in RAW flight line swath format, processed to create Classified LAS 1.2 Files formatted to 1565 individual 5000 ft x 5000 ft tiles, and corresponding Intensity Images and Bare Earth DEMs tiled to the same 5000 ft x 5000 ft schema, and Breaklines in Esri geodatabase format. Ground Conditions: LiDAR was collected in late 2014 and early 2015, while no snow was on the ground and rivers were at or below normal levels. In order to post process the LiDAR data to meet task order specifications, Photo Science established a total of 88 QA calibration control points and 80 Land Cover control points that were used to calibrate the LIDAR to known ground locations established throughout the San Diego, California project area.<br><\/span><\/p> <br><\/span><\/p> 2015:<br><\/span><\/p> <br><\/span><\/p> The San Diego, California 2015 QL2 LiDAR project called for the planning and acquisition of LIDAR data to be collected at a nominal pulse spacing (NPS) of 0.7 meter. Project specifications are based on the U.S. Geological Survey National Geospatial Program Base LIDAR Specification, Version 1.2. The data was developed based on a horizontal projection/datum of NAD83 (2011) State Plane California VI, US survey feet and vertical datum of NAVD1988 (GEOID12B), US survey feet. LiDAR data was delivered in RAW flight line swath format, processed to create Classified LAS 1.4 Files formatted to 2,045 individual 2,500-foot x 2,500-foot tiles, corresponding 2.5-ft hydro-flattened bare-earth DEMs tiled to the same 2,500-foot x 2,500-foot schema in ERDAS .IMG format, and Breaklines in Esri file geodatabase format. Ground Conditions: LiDAR was collected in late 2015, while no snow was on the ground and rivers were at or below normal levels. In order to post process the LiDAR data to meet task order specifications, Quantum Spatial established 39 calibration control points in order to calibrate the LIDAR to known ground locations established throughout the project area. The accuracy of the data was checked with 119 QC points.<br><\/span><\/p> <br><\/span><\/p> 2017:<br><\/span><\/p> <br><\/span><\/p> The Eastern San Diego County, California 2017 QL2 Lidar project called for the planning, acquisition, processing, and derivative products of lidar data to be collected at a nominal pulse spacing (NPS) of 0.7 meters. Project specifications are based on the U.S. Geological Survey National Geospatial Program Base Lidar Specification, Version 1.2. The data was developed based on a horizontal projection/datum of NAD83 (2011), State Plane California Zone VI, US survey feet and vertical datum of NAVD88 (GEOID12B), US survey feet. Lidar data was delivered as flightline-extent unclassified LAS swaths, as processed Classified LAS 1.4 files formatted to 1,710 individual 5,000-foot x 5,000-foot pilot tiles; as tiled intensity imagery, and as tiled bare earth DEMs, all tiled to the same schema. Continuous breaklines were produced in Esri file geodatabase format. Building footprints were produced in Esri file geodatabase format. Tiled contours with a 2-foot interval were produced in Esri file geodatabase format. Ground Conditions: Lidar was partially collected in fall/winter of late 2016/early 2017, while no snow was on the ground and rivers were at or below normal levels. In order to post process the lidar data to meet task order specifications and meet ASPRS vertical accuracy guidelines, Quantum Spatial, Inc. established a total of 28 ground control points that were used to calibrate the lidar to known ground locations established throughout the project area. An additional 116 independent accuracy checkpoints, 64 in Bare Earth and Urban landcovers (64 NVA points), 52 in the Forest, Shrubs, and Tall Weeds category (52 VVA points), were used to assess the vertical accuracy of the data. These checkpoints were not used to calibrate or post process the data.<br><\/span><\/p> <br><\/span><\/p> Special Considerations:<br><\/span><\/p> <br><\/span><\/p> The data covering the Borrego Valley and surrounding area (Min X: 6499999.9998755, Min Y: 2014999.99983956, Max X: 6559999.999954, Max Y: 2084999.99993114) was developed by processing the swath LiDAR data from the 2017 Eastern San Diego County project, and merging with the 2015 Borrego Valley LiDAR data to create a new DEM. This was necessary to fill in the gap areas between the two acquisition projects. The four DEM datasets were then merged in the following order: Borrego Valley DEM --> 2017 Eastern San Diego DEM --> FEMA 2015 Central San Diego DEM --> 2014 Western San Diego DEM.SANDAG has determined that this merged regionwide DEM is adequate for cartographic purposes. For analysis purposes, users may elect to use the original source data from each project. Refer to the metadata for each acquisition project for additional details.<\/span><\/p> <\/p> <\/p><\/div><\/div><\/div>",
"name": "Elevation/SanDiego_Regional_DEM",
"description": " <br><\/span><\/p> Merged Digital Elevation Model (DEM) data derived from Quality Level 2 LiDAR (USGS Base Specification) LiDAR acquired through the San Diego regional partnership acquisition projects in 2014 and 2016/2017, and the FEMA acquisition project in 2015. Class 2 (ground) LiDAR points in conjunction with the hydro breaklines were used to create 2.5-foot hydro-flattened raster DEMs from which contour lines were generated.Geographic Extent:San Diego County in southwestern California, covering approximately 4,475 total square miles.<br><\/span><\/p> <br><\/span><\/p> Dataset Descriptions:<br><\/span><\/p> <br><\/span><\/p> 2014:<br><\/span><\/p> <br><\/span><\/p> The San Diego, California 2014 LiDAR project called for the Planning, Acquisition, processing and derivative products of LIDAR data to be collected at a nominal pulse spacing (NPS) of 0.7 meter. Project specifications are based on the U.S. Geological Survey National Geospatial Program Base LIDAR Specification, Version 1. The data was developed based on a horizontal projection/datum of NAD83, State Plane California VI, Survey Feet and vertical datum of NAVD1988 (GEOID12A), Survey Feet. LiDAR data was delivered in RAW flight line swath format, processed to create Classified LAS 1.2 Files formatted to 1565 individual 5000 ft x 5000 ft tiles, and corresponding Intensity Images and Bare Earth DEMs tiled to the same 5000 ft x 5000 ft schema, and Breaklines in Esri geodatabase format. Ground Conditions: LiDAR was collected in late 2014 and early 2015, while no snow was on the ground and rivers were at or below normal levels. In order to post process the LiDAR data to meet task order specifications, Photo Science established a total of 88 QA calibration control points and 80 Land Cover control points that were used to calibrate the LIDAR to known ground locations established throughout the San Diego, California project area.<br><\/span><\/p> <br><\/span><\/p> 2015:<br><\/span><\/p> <br><\/span><\/p> The San Diego, California 2015 QL2 LiDAR project called for the planning and acquisition of LIDAR data to be collected at a nominal pulse spacing (NPS) of 0.7 meter. Project specifications are based on the U.S. Geological Survey National Geospatial Program Base LIDAR Specification, Version 1.2. The data was developed based on a horizontal projection/datum of NAD83 (2011) State Plane California VI, US survey feet and vertical datum of NAVD1988 (GEOID12B), US survey feet. LiDAR data was delivered in RAW flight line swath format, processed to create Classified LAS 1.4 Files formatted to 2,045 individual 2,500-foot x 2,500-foot tiles, corresponding 2.5-ft hydro-flattened bare-earth DEMs tiled to the same 2,500-foot x 2,500-foot schema in ERDAS .IMG format, and Breaklines in Esri file geodatabase format. Ground Conditions: LiDAR was collected in late 2015, while no snow was on the ground and rivers were at or below normal levels. In order to post process the LiDAR data to meet task order specifications, Quantum Spatial established 39 calibration control points in order to calibrate the LIDAR to known ground locations established throughout the project area. The accuracy of the data was checked with 119 QC points.<br><\/span><\/p> <br><\/span><\/p> 2017:<br><\/span><\/p> <br><\/span><\/p> The Eastern San Diego County, California 2017 QL2 Lidar project called for the planning, acquisition, processing, and derivative products of lidar data to be collected at a nominal pulse spacing (NPS) of 0.7 meters. Project specifications are based on the U.S. Geological Survey National Geospatial Program Base Lidar Specification, Version 1.2. The data was developed based on a horizontal projection/datum of NAD83 (2011), State Plane California Zone VI, US survey feet and vertical datum of NAVD88 (GEOID12B), US survey feet. Lidar data was delivered as flightline-extent unclassified LAS swaths, as processed Classified LAS 1.4 files formatted to 1,710 individual 5,000-foot x 5,000-foot pilot tiles; as tiled intensity imagery, and as tiled bare earth DEMs, all tiled to the same schema. Continuous breaklines were produced in Esri file geodatabase format. Building footprints were produced in Esri file geodatabase format. Tiled contours with a 2-foot interval were produced in Esri file geodatabase format. Ground Conditions: Lidar was partially collected in fall/winter of late 2016/early 2017, while no snow was on the ground and rivers were at or below normal levels. In order to post process the lidar data to meet task order specifications and meet ASPRS vertical accuracy guidelines, Quantum Spatial, Inc. established a total of 28 ground control points that were used to calibrate the lidar to known ground locations established throughout the project area. An additional 116 independent accuracy checkpoints, 64 in Bare Earth and Urban landcovers (64 NVA points), 52 in the Forest, Shrubs, and Tall Weeds category (52 VVA points), were used to assess the vertical accuracy of the data. These checkpoints were not used to calibrate or post process the data.<br><\/span><\/p> <br><\/span><\/p> Special Considerations:<br><\/span><\/p> <br><\/span><\/p> The data covering the Borrego Valley and surrounding area (Min X: 6499999.9998755, Min Y: 2014999.99983956, Max X: 6559999.999954, Max Y: 2084999.99993114) was developed by processing the swath LiDAR data from the 2017 Eastern San Diego County project, and merging with the 2015 Borrego Valley LiDAR data to create a new DEM. This was necessary to fill in the gap areas between the two acquisition projects. The four DEM datasets were then merged in the following order: Borrego Valley DEM --> 2017 Eastern San Diego DEM --> FEMA 2015 Central San Diego DEM --> 2014 Western San Diego DEM.SANDAG has determined that this merged regionwide DEM is adequate for cartographic purposes. For analysis purposes, users may elect to use the original source data from each project. Refer to the metadata for each acquisition project for additional details.<\/span><\/p> <\/p> <\/p><\/div><\/div><\/div>",
"extent": {
"xmin": 6150079.999875501,
"ymin": 1761209.9999311417,
"xmax": 6614999.999875501,
"ymax": 2129999.9999311417,
"spatialReference": {
"wkid": 103008,
"latestWkid": 6426,
"vcsWkid": 105703,
"latestVcsWkid": 6360
}
},
"initialExtent": {
"xmin": 6150079.999875501,
"ymin": 1761209.9999311417,
"xmax": 6614999.999875501,
"ymax": 2129999.9999311417,
"spatialReference": {
"wkid": 103008,
"latestWkid": 6426,
"vcsWkid": 105703,
"latestVcsWkid": 6360
}
},
"fullExtent": {
"xmin": 6150079.999875501,
"ymin": 1761209.9999311417,
"xmax": 6614999.999875501,
"ymax": 2129999.9999311417,
"spatialReference": {
"wkid": 103008,
"latestWkid": 6426,
"vcsWkid": 105703,
"latestVcsWkid": 6360
}
},
"heightModelInfo": {
"heightModel": "gravity_related_height",
"vertCRS": "NAVD_1988_Foot_US",
"heightUnit": "us-foot"
},
"pixelSizeX": 2.5,
"pixelSizeY": 2.5,
"bandCount": 1,
"pixelType": "F32",
"minPixelSize": 0,
"maxPixelSize": 0,
"copyrightText": "SANDAG, FEMA, County of San Diego",
"serviceDataType": "esriImageServiceDataTypeGeneric",
"minValues": [
-10.070775032043
],
"maxValues": [
6518.7138671875
],
"meanValues": [
1949.2109605053
],
"stdvValues": [
1481.4952971562
],
"objectIdField": "",
"fields": [],
"capabilities": "Mensuration,Image,Metadata",
"defaultMosaicMethod": "Center",
"allowedMosaicMethods": "",
"sortField": "",
"sortValue": null,
"sortAscending": true,
"mosaicOperator": "First",
"defaultCompressionQuality": 75,
"defaultResamplingMethod": "Bilinear",
"maxImageHeight": 4100,
"maxImageWidth": 15000,
"allowRasterFunction": true,
"rasterFunctionInfos": [
{
"name": "None",
"description": "",
"help": ""
}
],
"rasterTypeInfos": [
{
"name": "Raster Dataset",
"description": "Supports all ArcGIS Raster Datasets",
"help": ""
}
],
"mensurationCapabilities": "Basic",
"hasHistograms": true,
"hasColormap": false,
"hasRasterAttributeTable": false,
"minScale": 0,
"maxScale": 0,
"exportTilesAllowed": false,
"hasMultidimensions": false,
"supportsStatistics": false,
"supportsAdvancedQueries": false,
"editFieldsInfo": null,
"ownershipBasedAccessControlForRasters": null,
"allowComputeTiePoints": false,
"useStandardizedQueries": true,
"advancedQueryCapabilities": {
"useStandardizedQueries": true,
"supportsStatistics": false,
"supportsOrderBy": false,
"supportsDistinct": false,
"supportsPagination": false
},
"spatialReference": {
"wkid": 103008,
"latestWkid": 6426,
"vcsWkid": 105703,
"latestVcsWkid": 6360
}
}