<?xml version="1.0" encoding="UTF-8" standalone="no"?>
<metadata xml:lang="en">
<Esri>
<CreaDate>20130509</CreaDate>
<CreaTime>15090100</CreaTime>
<ArcGISFormat>1.0</ArcGISFormat>
<SyncOnce>FALSE</SyncOnce>
<DataProperties>
<itemProps>
<itemName Sync="TRUE">SD2012_MOSAIC2</itemName>
<nativeExtBox>
<westBL Sync="TRUE">6139182.814031</westBL>
<eastBL Sync="TRUE">6616725.166031</eastBL>
<southBL Sync="TRUE">1771391.987713</southBL>
<northBL Sync="TRUE">2131971.975213</northBL>
<exTypeCode Sync="TRUE">1</exTypeCode>
</nativeExtBox>
</itemProps>
<coordRef>
<type Sync="TRUE">Projected</type>
<geogcsn Sync="TRUE">GCS_North_American_1983</geogcsn>
<csUnits Sync="TRUE">Linear Unit: Foot_US (0.304801)</csUnits>
<projcsn Sync="TRUE">NAD_1983_StatePlane_California_VI_FIPS_0406_Feet</projcsn>
<peXml Sync="TRUE">&lt;ProjectedCoordinateSystem xsi:type='typens:ProjectedCoordinateSystem' xmlns:xsi='http://www.w3.org/2001/XMLSchema-instance' xmlns:xs='http://www.w3.org/2001/XMLSchema' xmlns:typens='http://www.esri.com/schemas/ArcGIS/10.1'&gt;&lt;WKT&gt;PROJCS[&amp;quot;NAD_1983_StatePlane_California_VI_FIPS_0406_Feet&amp;quot;,GEOGCS[&amp;quot;GCS_North_American_1983&amp;quot;,DATUM[&amp;quot;D_North_American_1983&amp;quot;,SPHEROID[&amp;quot;GRS_1980&amp;quot;,6378137.0,298.257222101]],PRIMEM[&amp;quot;Greenwich&amp;quot;,0.0],UNIT[&amp;quot;Degree&amp;quot;,0.0174532925199433]],PROJECTION[&amp;quot;Lambert_Conformal_Conic&amp;quot;],PARAMETER[&amp;quot;False_Easting&amp;quot;,6561666.666666666],PARAMETER[&amp;quot;False_Northing&amp;quot;,1640416.666666667],PARAMETER[&amp;quot;Central_Meridian&amp;quot;,-116.25],PARAMETER[&amp;quot;Standard_Parallel_1&amp;quot;,32.78333333333333],PARAMETER[&amp;quot;Standard_Parallel_2&amp;quot;,33.88333333333333],PARAMETER[&amp;quot;Latitude_Of_Origin&amp;quot;,32.16666666666666],UNIT[&amp;quot;Foot_US&amp;quot;,0.3048006096012192],AUTHORITY[&amp;quot;EPSG&amp;quot;,2230]]&lt;/WKT&gt;&lt;XOrigin&gt;-118608900&lt;/XOrigin&gt;&lt;YOrigin&gt;-91259500&lt;/YOrigin&gt;&lt;XYScale&gt;35979706.307677768&lt;/XYScale&gt;&lt;ZOrigin&gt;-100000&lt;/ZOrigin&gt;&lt;ZScale&gt;10000&lt;/ZScale&gt;&lt;MOrigin&gt;-100000&lt;/MOrigin&gt;&lt;MScale&gt;10000&lt;/MScale&gt;&lt;XYTolerance&gt;0.0032808333333333331&lt;/XYTolerance&gt;&lt;ZTolerance&gt;0.001&lt;/ZTolerance&gt;&lt;MTolerance&gt;0.001&lt;/MTolerance&gt;&lt;HighPrecision&gt;true&lt;/HighPrecision&gt;&lt;WKID&gt;102646&lt;/WKID&gt;&lt;LatestWKID&gt;2230&lt;/LatestWKID&gt;&lt;/ProjectedCoordinateSystem&gt;</peXml>
</coordRef>
<RasterProperties>
<General>
<PixelDepth Sync="TRUE">8</PixelDepth>
<HasColormap Sync="TRUE">FALSE</HasColormap>
<CompressionType Sync="TRUE">None</CompressionType>
<NumBands Sync="TRUE">4</NumBands>
<Format Sync="TRUE">AMD</Format>
<HasPyramids Sync="TRUE">TRUE</HasPyramids>
<SourceType Sync="TRUE">continuous</SourceType>
<PixelType Sync="TRUE">unsigned integer</PixelType>
<NoDataValue Sync="TRUE">
</NoDataValue>
</General>
<Properties>
<MaxImageHeight Sync="TRUE">4100</MaxImageHeight>
<MaxImageWidth Sync="TRUE">15000</MaxImageWidth>
<MaxRecordCount Sync="TRUE">1000</MaxRecordCount>
<MaxDownloadImageCount Sync="TRUE">20</MaxDownloadImageCount>
<MaxDownloadSizeLimit Sync="TRUE">2048</MaxDownloadSizeLimit>
<MaxMosaicImageCount Sync="TRUE">20</MaxMosaicImageCount>
<DefaultCompressionQuality Sync="TRUE">75</DefaultCompressionQuality>
<DefaultCompressionTolerance Sync="TRUE">0.01</DefaultCompressionTolerance>
<BlendWidth Sync="TRUE">10</BlendWidth>
<ViewpointSpacingX Sync="TRUE">600</ViewpointSpacingX>
<ViewpointSpacingY Sync="TRUE">300</ViewpointSpacingY>
<AllowedItemMetadata Sync="TRUE">Basic</AllowedItemMetadata>
<DefaultResamplingMethod Sync="TRUE">1</DefaultResamplingMethod>
<AllowedMosaicMethods Sync="TRUE">NorthWest,Center,LockRaster,ByAttribute,Nadir,Viewpoint,Seamline,None</AllowedMosaicMethods>
<AllowedCompressions Sync="TRUE">None,JPEG,LZ77,LERC</AllowedCompressions>
<AllowedMensurationCapabilities Sync="TRUE">None,Basic</AllowedMensurationCapabilities>
<AvailableMensurationCapabilities Sync="TRUE">None,Basic,Base-Top Height,Top-Top Shadow Height,Base-Top Shadow Height,3D</AvailableMensurationCapabilities>
<ClipToBoundary Sync="TRUE">0</ClipToBoundary>
<FootprintMayContainNoData Sync="TRUE">-1</FootprintMayContainNoData>
<CellSizeTolerance Sync="TRUE">0.8</CellSizeTolerance>
<MinimumPixelContribution Sync="TRUE">1</MinimumPixelContribution>
<AvailableMosaicMethods Sync="TRUE">NorthWest,Center,LockRaster,ByAttribute,Nadir,Viewpoint,Seamline,None</AvailableMosaicMethods>
<AvailableCompressionMethods Sync="TRUE">None,JPEG,LZ77,LERC</AvailableCompressionMethods>
<AvailableItemMetadataLevels Sync="TRUE">None,Basic,Full</AvailableItemMetadataLevels>
<ConfigKeyword Sync="TRUE">
</ConfigKeyword>
<BandDefinitionKeyword Sync="TRUE">NONE</BandDefinitionKeyword>
<AllowedFields Sync="TRUE">Name,MinPS,MaxPS,LowPS,HighPS,Tag,GroupName,ProductName,CenterX,CenterY,ZOrder,Shape_Length,Shape_Area</AllowedFields>
<MaxCellSize Sync="TRUE">119586.375</MaxCellSize>
<LowCellSize Sync="TRUE">0.98425</LowCellSize>
<HighCellSize Sync="TRUE">2391.7275</HighCellSize>
</Properties>
<Functions Sync="TRUE">
<Function Description="Performs on-the-fly mosaic on a raster catalog." Name="Mosaic Function">
</Function>
</Functions>
</RasterProperties>
</DataProperties>
<SyncDate>20130513</SyncDate>
<SyncTime>09325900</SyncTime>
<ModDate>20130513</ModDate>
<ModTime>09325900</ModTime>
</Esri>
<dataIdInfo>
<envirDesc Sync="FALSE">Esri ArcGIS 10.1.1.3143</envirDesc>
<dataLang>
<languageCode Sync="TRUE" value="eng">
</languageCode>
<countryCode Sync="TRUE" value="USA">
</countryCode>
</dataLang>
<idCitation>
<resTitle Sync="TRUE">SD2012_MOSAIC2</resTitle>
<presForm>
<PresFormCd Sync="TRUE" value="005">
</PresFormCd>
</presForm>
</idCitation>
<spatRpType>
<SpatRepTypCd Sync="TRUE" value="002">
</SpatRepTypCd>
</spatRpType>
<dataExt>
<geoEle>
<GeoBndBox esriExtentType="search">
<exTypeCode Sync="TRUE">1</exTypeCode>
<westBL Sync="TRUE">-117.636070</westBL>
<eastBL Sync="TRUE">-116.069356</eastBL>
<northBL Sync="TRUE">33.517632</northBL>
<southBL Sync="TRUE">32.518997</southBL>
</GeoBndBox>
</geoEle>
</dataExt>
<idAbs>USGS 0.30m and 0.50m Orthoimages, San Diego, CA The imagery for this project was flown at a nominal acquisition altitude (AGL) of 9,500 and 14,500 feet. Differential baseline lengths were kept to a minimum by the use of the nearest available CORS stations to the project area. Maximum baselines were less than 60 km with the mean distance less than 30 km. GPS coordinates were referenced to the National Spatial Reference System (NSRS) through connections to active CORS and/or passive monumented control stations. The film camera(s) were calibrated by USGS within 3 years prior to the date of photography. Digital camera(s) were calibrated by the manufacture and the camera parameters refined through in-situ proprietary procedures. Imagery acquisition dates: .03m data captured between May 20 - May 22, 2012 .05m data captured between May 27 - June 6, 2012 Radiometry is verified by visual inspection of the digital orthophoto. Slight systematic radiometric differences may exist between adjacent orthoimage files; these are due primarily to differences in source image capture dates and sun angles along flight lines. These differences can be observed in an image's general lightness or darkness when it is compared to adjacent orthoimage file coverages. Tonal balancing may be performed over a group of images during the mosaicking process which may serve to lighten or darken adjacent images for better color tone matching. GeoTIFFs conform to the specifications set forth by the USGS for production of orthophotos in the Task Order Number G12PD00530. Orthoimages are visually inspected for completeness to ensure that no gaps or image misplacements exist within and between adjacent images. These images are derived by mosaicking multiple images to ensure complete coverage. Source imagery is cloud free. The 0.30 meter ortho image horizontal accuracy does not exceed 1.52-meters NSSDA 95% confidence (0.88-meters Root Mean Squared (RMSE) Error XY (0.62 meter RMSE X or Y). The 0.5 meter ortho image horizontal accuracy does not exceed 2.52-meters NSSDA 95% confidence (1.4681-meters Root Mean Squared (RMSE) Error XY (1.0363 meter RMSE X or Y). The horizontal accuracy of the orthorectified images is mainly determined by the quality of the DEM. The elevation data consists of auto-correlated data generated and edited by AeroMetric. Airborne GPS/IMU data was used. All photo identifiable checkpoints were measured and compared to the surveyed checkpoints to determine the RMSE. All rectified chip overlap was checked for mismatch. All final tiles were checked visually for edge matching. Process Description - 0.30m imagery: The digital images were aero-triangulated to support digital ortho image production for the San Diego, CA project area. Ground check point data was provided by AeroMetric, Inc. The project was referenced to the North American Datum of 1983 (NAD83), UTM Zone 11 horizontally and to the North American Vertical Datum of 1988 (NAVD88) vertically. Units were in meters. The images, ABGPS/IMU data, and ground check point data were used as inputs to the Zeiss/Intergraph ImageStation Automatic Triangulation (ISAT) softcopy program. ISAT correlated image points and aerotriangulated the block of images to create exposure station exterior orientations. All ground points were manually measured on the imagery. These points were included in the aerotriangulation adjustments for absolute ground location verification. The scale of the aerial photos was 1"=2011'. The photography was exposed between 5/20/12 and 5/22/12. Rectification was done using the aerotriangulation data, raw images, and DEM data. These rectified images were used to generate seamlines which were then reviewed and edited. The rectified images were mosaicked, balanced, and cut into final image sheets. The final sheets were viewed and artifacts were removed as well as other edits performed. A QC step was performed along with any needed corrections and the final tiles were formatted and checked before delivery. The imagery for the city of San Diego, Poway, and Chula Vista was resampled to 0.3 meter resolution from native 0.15 meter orthoimagery. Process Description - 0.50m imagery The digital images were aero-triangulated to support digital ortho image production for the San Diego, CA project area. Ground check point data was provided by AeroMetric, Inc. The project was referenced to the North American Datum of 1983 (NAD83), UTM Zone 11 horizontally and to the North American Vertical Datum of 1988 (NAVD88) vertically. Units were in meters. The images, ABGPS/IMU data, and ground check point data were used as inputs to the Zeiss/Intergraph ImageStation Automatic Triangulation (ISAT) softcopy program. ISAT correlated image points and aerotriangulated the block of images to create exposure station exterior orientations. All ground points were manually measured on the imagery. These points were included in the aerotriangulation adjustments for absolute ground location verification. The scale of the aerial photos was 1"=3069'. The photography was exposed between 5/27/12 and 6/6/12. Rectification was done using the aerotriangulation data, raw images, and DEM data. These rectified images were used to generate seamlines which were then reviewed and edited. The rectified images were mosaicked, balanced, and cut into final image sheets. The final sheets were viewed and artifacts were removed as well as other edits performed. A QC step was performed along with any needed corrections and the final tiles were formatted and checked before delivery. Four band orthoimagery is organized in four color bands or channels which represent the red, green, blue, and near-infrared portions of the spectrum. Each image pixel is assigned a quadruple numeric value, one for each color band. Numeric values range from 0 to 255. Areas where data is incomplete due to lack of full image coverage are represented with the numeric value of 0. </idAbs>
<searchKeys>
<keyword>San Diego</keyword>
<keyword>Imagery</keyword>
</searchKeys>
<idPurp>2012 Imagery mosaic of the San Diego Region.</idPurp>
<idCredit>SANDAG</idCredit>
<resConst>
<Consts>
<useLimit/>
</Consts>
</resConst>
</dataIdInfo>
<mdLang>
<languageCode Sync="TRUE" value="eng">
</languageCode>
<countryCode Sync="TRUE" value="USA">
</countryCode>
</mdLang>
<refSysInfo>
<RefSystem>
<refSysID>
<identCode Sync="TRUE" code="2230">
</identCode>
<idCodeSpace Sync="TRUE">EPSG</idCodeSpace>
<idVersion Sync="TRUE">7.11.2</idVersion>
</refSysID>
</RefSystem>
</refSysInfo>
<spatRepInfo>
<Georect>
<cellGeo>
<CellGeoCd Sync="TRUE" value="002">
</CellGeoCd>
</cellGeo>
<numDims Sync="TRUE">2</numDims>
<tranParaAv Sync="TRUE">1</tranParaAv>
<chkPtAv Sync="TRUE">0</chkPtAv>
<cornerPts>
<pos Sync="TRUE">6139182.814031 1771391.987713</pos>
</cornerPts>
<cornerPts>
<pos Sync="TRUE">6139182.814031 2131971.975213</pos>
</cornerPts>
<cornerPts>
<pos Sync="TRUE">6616725.166031 2131971.975213</pos>
</cornerPts>
<cornerPts>
<pos Sync="TRUE">6616725.166031 1771391.987713</pos>
</cornerPts>
<centerPt>
<pos Sync="TRUE">6377953.990031 1951681.981463</pos>
</centerPt>
<axisDimension type="002">
<dimSize Sync="TRUE">485184</dimSize>
<dimResol>
<value Sync="TRUE" uom="Foot_US">0.984250</value>
</dimResol>
</axisDimension>
<axisDimension type="001">
<dimSize Sync="TRUE">366350</dimSize>
<dimResol>
<value Sync="TRUE" uom="Foot_US">0.984250</value>
</dimResol>
</axisDimension>
<ptInPixel>
<PixOrientCd Sync="TRUE" value="001">
</PixOrientCd>
</ptInPixel>
</Georect>
</spatRepInfo>
<contInfo>
<ImgDesc>
<contentTyp>
<ContentTypCd Sync="TRUE" value="001">
</ContentTypCd>
</contentTyp>
<covDim>
<Band>
<dimDescrp Sync="TRUE">Band_1</dimDescrp>
<maxVal Sync="TRUE">255.000000</maxVal>
<minVal Sync="TRUE">0.000000</minVal>
<bitsPerVal Sync="TRUE">8</bitsPerVal>
<valUnit>
<UOM type="length">
</UOM>
</valUnit>
</Band>
<Band>
<dimDescrp Sync="TRUE">Band_2</dimDescrp>
<maxVal Sync="TRUE">255.000000</maxVal>
<minVal Sync="TRUE">0.000000</minVal>
<bitsPerVal Sync="TRUE">8</bitsPerVal>
<valUnit>
<UOM type="length">
</UOM>
</valUnit>
</Band>
<Band>
<dimDescrp Sync="TRUE">Band_3</dimDescrp>
<maxVal Sync="TRUE">255.000000</maxVal>
<minVal Sync="TRUE">0.000000</minVal>
<bitsPerVal Sync="TRUE">8</bitsPerVal>
<valUnit>
<UOM type="length">
</UOM>
</valUnit>
</Band>
<Band>
<dimDescrp Sync="TRUE">Band_4</dimDescrp>
<maxVal Sync="TRUE">255.000000</maxVal>
<minVal Sync="TRUE">0.000000</minVal>
<bitsPerVal Sync="TRUE">8</bitsPerVal>
<valUnit>
<UOM type="length">
</UOM>
</valUnit>
</Band>
</covDim>
</ImgDesc>
</contInfo>
<mdDateSt Sync="TRUE">20130513</mdDateSt>
</metadata>
