{
 "currentVersion": 10.81,
 "serviceDescription": "USGS 0.30m and 0.50m Orthoimages, San Diego, CA The imagery for this project was flown at a nominal acquisition altitude (AGL) of 9,500 and 14,500 feet. Differential baseline lengths were kept to a minimum by the use of the nearest available CORS stations to the project area. Maximum baselines were less than 60 km with the mean distance less than 30 km. GPS coordinates were referenced to the National Spatial Reference System (NSRS) through connections to active CORS and/or passive monumented control stations. The film camera(s) were calibrated by USGS within 3 years prior to the date of photography. Digital camera(s) were calibrated by the manufacture and the camera parameters refined through in-situ proprietary procedures. Imagery acquisition dates: .03m data captured between May 20 - May 22, 2012 .05m data captured between May 27 - June 6, 2012 Radiometry is verified by visual inspection of the digital orthophoto. Slight systematic radiometric differences may exist between adjacent orthoimage files; these are due primarily to differences in source image capture dates and sun angles along flight lines. These differences can be observed in an image's general lightness or darkness when it is compared to adjacent orthoimage file coverages. Tonal balancing may be performed over a group of images during the mosaicking process which may serve to lighten or darken adjacent images for better color tone matching. GeoTIFFs conform to the specifications set forth by the USGS for production of orthophotos in the Task Order Number G12PD00530. Orthoimages are visually inspected for completeness to ensure that no gaps or image misplacements exist within and between adjacent images. These images are derived by mosaicking multiple images to ensure complete coverage. Source imagery is cloud free. The 0.30 meter ortho image horizontal accuracy does not exceed 1.52-meters NSSDA 95% confidence (0.88-meters Root Mean Squared (RMSE) Error XY (0.62 meter RMSE X or Y). The 0.5 meter ortho image horizontal accuracy does not exceed 2.52-meters NSSDA 95% confidence (1.4681-meters Root Mean Squared (RMSE) Error XY (1.0363 meter RMSE X or Y). The horizontal accuracy of the orthorectified images is mainly determined by the quality of the DEM. The elevation data consists of auto-correlated data generated and edited by AeroMetric. Airborne GPS/IMU data was used. All photo identifiable checkpoints were measured and compared to the surveyed checkpoints to determine the RMSE. All rectified chip overlap was checked for mismatch. All final tiles were checked visually for edge matching. Process Description - 0.30m imagery: The digital images were aero-triangulated to support digital ortho image production for the San Diego, CA project area. Ground check point data was provided by AeroMetric, Inc. The project was referenced to the North American Datum of 1983 (NAD83), UTM Zone 11 horizontally and to the North American Vertical Datum of 1988 (NAVD88) vertically. Units were in meters. The images, ABGPS/IMU data, and ground check point data were used as inputs to the Zeiss/Intergraph ImageStation Automatic Triangulation (ISAT) softcopy program. ISAT correlated image points and aerotriangulated the block of images to create exposure station exterior orientations. All ground points were manually measured on the imagery. These points were included in the aerotriangulation adjustments for absolute ground location verification. The scale of the aerial photos was 1\"=2011'. The photography was exposed between 5/20/12 and 5/22/12. Rectification was done using the aerotriangulation data, raw images, and DEM data. These rectified images were used to generate seamlines which were then reviewed and edited. The rectified images were mosaicked, balanced, and cut into final image sheets. The final sheets were viewed and artifacts were removed as well as other edits performed. A QC step was performed along with any needed corrections and the final tiles were formatted and checked before delivery. The imagery for the city of San Diego, Poway, and Chula Vista was resampled to 0.3 meter resolution from native 0.15 meter orthoimagery. Process Description - 0.50m imagery The digital images were aero-triangulated to support digital ortho image production for the San Diego, CA project area. Ground check point data was provided by AeroMetric, Inc. The project was referenced to the North American Datum of 1983 (NAD83), UTM Zone 11 horizontally and to the North American Vertical Datum of 1988 (NAVD88) vertically. Units were in meters. The images, ABGPS/IMU data, and ground check point data were used as inputs to the Zeiss/Intergraph ImageStation Automatic Triangulation (ISAT) softcopy program. ISAT correlated image points and aerotriangulated the block of images to create exposure station exterior orientations. All ground points were manually measured on the imagery. These points were included in the aerotriangulation adjustments for absolute ground location verification. The scale of the aerial photos was 1\"=3069'. The photography was exposed between 5/27/12 and 6/6/12. Rectification was done using the aerotriangulation data, raw images, and DEM data. These rectified images were used to generate seamlines which were then reviewed and edited. The rectified images were mosaicked, balanced, and cut into final image sheets. The final sheets were viewed and artifacts were removed as well as other edits performed. A QC step was performed along with any needed corrections and the final tiles were formatted and checked before delivery. Four band orthoimagery is organized in four color bands or channels which represent the red, green, blue, and near-infrared portions of the spectrum. Each image pixel is assigned a quadruple numeric value, one for each color band. Numeric values range from 0 to 255. Areas where data is incomplete due to lack of full image coverage are represented with the numeric value of 0. ",
 "name": "Imagery/SanDiego_2012",
 "description": "USGS 0.30m and 0.50m Orthoimages, San Diego, CA The imagery for this project was flown at a nominal acquisition altitude (AGL) of 9,500 and 14,500 feet. Differential baseline lengths were kept to a minimum by the use of the nearest available CORS stations to the project area. Maximum baselines were less than 60 km with the mean distance less than 30 km. GPS coordinates were referenced to the National Spatial Reference System (NSRS) through connections to active CORS and/or passive monumented control stations. The film camera(s) were calibrated by USGS within 3 years prior to the date of photography. Digital camera(s) were calibrated by the manufacture and the camera parameters refined through in-situ proprietary procedures. Imagery acquisition dates: .03m data captured between May 20 - May 22, 2012 .05m data captured between May 27 - June 6, 2012 Radiometry is verified by visual inspection of the digital orthophoto. Slight systematic radiometric differences may exist between adjacent orthoimage files; these are due primarily to differences in source image capture dates and sun angles along flight lines. These differences can be observed in an image's general lightness or darkness when it is compared to adjacent orthoimage file coverages. Tonal balancing may be performed over a group of images during the mosaicking process which may serve to lighten or darken adjacent images for better color tone matching. GeoTIFFs conform to the specifications set forth by the USGS for production of orthophotos in the Task Order Number G12PD00530. Orthoimages are visually inspected for completeness to ensure that no gaps or image misplacements exist within and between adjacent images. These images are derived by mosaicking multiple images to ensure complete coverage. Source imagery is cloud free. The 0.30 meter ortho image horizontal accuracy does not exceed 1.52-meters NSSDA 95% confidence (0.88-meters Root Mean Squared (RMSE) Error XY (0.62 meter RMSE X or Y). The 0.5 meter ortho image horizontal accuracy does not exceed 2.52-meters NSSDA 95% confidence (1.4681-meters Root Mean Squared (RMSE) Error XY (1.0363 meter RMSE X or Y). The horizontal accuracy of the orthorectified images is mainly determined by the quality of the DEM. The elevation data consists of auto-correlated data generated and edited by AeroMetric. Airborne GPS/IMU data was used. All photo identifiable checkpoints were measured and compared to the surveyed checkpoints to determine the RMSE. All rectified chip overlap was checked for mismatch. All final tiles were checked visually for edge matching. Process Description - 0.30m imagery: The digital images were aero-triangulated to support digital ortho image production for the San Diego, CA project area. Ground check point data was provided by AeroMetric, Inc. The project was referenced to the North American Datum of 1983 (NAD83), UTM Zone 11 horizontally and to the North American Vertical Datum of 1988 (NAVD88) vertically. Units were in meters. The images, ABGPS/IMU data, and ground check point data were used as inputs to the Zeiss/Intergraph ImageStation Automatic Triangulation (ISAT) softcopy program. ISAT correlated image points and aerotriangulated the block of images to create exposure station exterior orientations. All ground points were manually measured on the imagery. These points were included in the aerotriangulation adjustments for absolute ground location verification. The scale of the aerial photos was 1\"=2011'. The photography was exposed between 5/20/12 and 5/22/12. Rectification was done using the aerotriangulation data, raw images, and DEM data. These rectified images were used to generate seamlines which were then reviewed and edited. The rectified images were mosaicked, balanced, and cut into final image sheets. The final sheets were viewed and artifacts were removed as well as other edits performed. A QC step was performed along with any needed corrections and the final tiles were formatted and checked before delivery. The imagery for the city of San Diego, Poway, and Chula Vista was resampled to 0.3 meter resolution from native 0.15 meter orthoimagery. Process Description - 0.50m imagery The digital images were aero-triangulated to support digital ortho image production for the San Diego, CA project area. Ground check point data was provided by AeroMetric, Inc. The project was referenced to the North American Datum of 1983 (NAD83), UTM Zone 11 horizontally and to the North American Vertical Datum of 1988 (NAVD88) vertically. Units were in meters. The images, ABGPS/IMU data, and ground check point data were used as inputs to the Zeiss/Intergraph ImageStation Automatic Triangulation (ISAT) softcopy program. ISAT correlated image points and aerotriangulated the block of images to create exposure station exterior orientations. All ground points were manually measured on the imagery. These points were included in the aerotriangulation adjustments for absolute ground location verification. The scale of the aerial photos was 1\"=3069'. The photography was exposed between 5/27/12 and 6/6/12. Rectification was done using the aerotriangulation data, raw images, and DEM data. These rectified images were used to generate seamlines which were then reviewed and edited. The rectified images were mosaicked, balanced, and cut into final image sheets. The final sheets were viewed and artifacts were removed as well as other edits performed. A QC step was performed along with any needed corrections and the final tiles were formatted and checked before delivery. Four band orthoimagery is organized in four color bands or channels which represent the red, green, blue, and near-infrared portions of the spectrum. Each image pixel is assigned a quadruple numeric value, one for each color band. Numeric values range from 0 to 255. Areas where data is incomplete due to lack of full image coverage are represented with the numeric value of 0. ",
 "extent": {
  "xmin": 6139182.814030886,
  "ymin": 1771391.9877126487,
  "xmax": 6616725.166030886,
  "ymax": 2131971.9752126485,
  "spatialReference": {
   "wkid": 102646,
   "latestWkid": 2230
  }
 },
 "initialExtent": {
  "xmin": 6139182.814030886,
  "ymin": 1771391.9877126487,
  "xmax": 6616725.166030886,
  "ymax": 2131971.9752126485,
  "spatialReference": {
   "wkid": 102646,
   "latestWkid": 2230
  }
 },
 "fullExtent": {
  "xmin": 6139182.814030886,
  "ymin": 1771391.9877126487,
  "xmax": 6616725.166030886,
  "ymax": 2131971.9752126485,
  "spatialReference": {
   "wkid": 102646,
   "latestWkid": 2230
  }
 },
 "pixelSizeX": 0.98425,
 "pixelSizeY": 0.9842499999999995,
 "bandCount": 4,
 "pixelType": "U8",
 "minPixelSize": 0,
 "maxPixelSize": 0,
 "copyrightText": "SANDAG",
 "serviceDataType": "esriImageServiceDataTypeGeneric",
 "minValues": [
  0,
  0,
  0,
  0
 ],
 "maxValues": [
  255,
  255,
  255,
  255
 ],
 "meanValues": [
  119.34369870829129,
  120.64795037087394,
  111.8302851239764,
  164.8348386000192
 ],
 "stdvValues": [
  46.777483011896436,
  46.802547216416684,
  42.11613570794942,
  47.59126001779568
 ],
 "objectIdField": "OBJECTID",
 "fields": [
  {
   "name": "OBJECTID",
   "type": "esriFieldTypeOID",
   "alias": "OBJECTID",
   "domain": null
  },
  {
   "name": "Shape",
   "type": "esriFieldTypeGeometry",
   "alias": "Shape",
   "domain": null
  },
  {
   "name": "Name",
   "type": "esriFieldTypeString",
   "alias": "Name",
   "domain": null,
   "length": 50
  },
  {
   "name": "MinPS",
   "type": "esriFieldTypeDouble",
   "alias": "MinPS",
   "domain": null
  },
  {
   "name": "MaxPS",
   "type": "esriFieldTypeDouble",
   "alias": "MaxPS",
   "domain": null
  },
  {
   "name": "LowPS",
   "type": "esriFieldTypeDouble",
   "alias": "LowPS",
   "domain": null
  },
  {
   "name": "HighPS",
   "type": "esriFieldTypeDouble",
   "alias": "HighPS",
   "domain": null
  },
  {
   "name": "Category",
   "type": "esriFieldTypeInteger",
   "alias": "Category",
   "domain": {
    "type": "codedValue",
    "name": "MosaicCatalogItemCategoryDomain",
    "description": "Catalog item categories.",
    "codedValues": [
     {
      "name": "Unknown",
      "code": 0
     },
     {
      "name": "Primary",
      "code": 1
     },
     {
      "name": "Overview",
      "code": 2
     },
     {
      "name": "Unprocessed Overview",
      "code": 3
     },
     {
      "name": "Partial Overview",
      "code": 4
     },
     {
      "name": "Uploaded",
      "code": 253
     },
     {
      "name": "Incomplete",
      "code": 254
     },
     {
      "name": "Custom",
      "code": 255
     }
    ],
    "mergePolicy": "esriMPTDefaultValue",
    "splitPolicy": "esriSPTDefaultValue"
   }
  },
  {
   "name": "Tag",
   "type": "esriFieldTypeString",
   "alias": "Tag",
   "domain": null,
   "length": 20
  },
  {
   "name": "GroupName",
   "type": "esriFieldTypeString",
   "alias": "GroupName",
   "domain": null,
   "length": 50
  },
  {
   "name": "ProductName",
   "type": "esriFieldTypeString",
   "alias": "ProductName",
   "domain": null,
   "length": 50
  },
  {
   "name": "CenterX",
   "type": "esriFieldTypeDouble",
   "alias": "CenterX",
   "domain": null
  },
  {
   "name": "CenterY",
   "type": "esriFieldTypeDouble",
   "alias": "CenterY",
   "domain": null
  },
  {
   "name": "ZOrder",
   "type": "esriFieldTypeInteger",
   "alias": "ZOrder",
   "domain": null
  },
  {
   "name": "Shape_Length",
   "type": "esriFieldTypeDouble",
   "alias": "Shape_Length",
   "domain": null
  },
  {
   "name": "Shape_Area",
   "type": "esriFieldTypeDouble",
   "alias": "Shape_Area",
   "domain": null
  }
 ],
 "capabilities": "Catalog,Download,Image,Metadata",
 "defaultMosaicMethod": "Northwest",
 "allowedMosaicMethods": "NorthWest,Center,LockRaster,ByAttribute,Nadir,Viewpoint,Seamline,None",
 "sortField": "",
 "sortValue": null,
 "sortAscending": true,
 "mosaicOperator": "First",
 "maxDownloadSizeLimit": 2048,
 "defaultCompressionQuality": 75,
 "defaultResamplingMethod": "Bilinear",
 "maxImageHeight": 4100,
 "maxImageWidth": 15000,
 "maxRecordCount": 1000,
 "maxDownloadImageCount": 20,
 "maxMosaicImageCount": 20,
 "allowRasterFunction": true,
 "rasterFunctionInfos": [
  {
   "name": "None",
   "description": "A No-Op Function.",
   "help": ""
  }
 ],
 "rasterTypeInfos": [
  {
   "name": "Raster Dataset",
   "description": "Supports all ArcGIS Raster Datasets",
   "help": ""
  }
 ],
 "mensurationCapabilities": "None",
 "hasHistograms": true,
 "hasColormap": false,
 "hasRasterAttributeTable": false,
 "minScale": 0,
 "maxScale": 0,
 "exportTilesAllowed": false,
 "hasMultidimensions": false,
 "supportsStatistics": true,
 "supportsAdvancedQueries": true,
 "editFieldsInfo": null,
 "ownershipBasedAccessControlForRasters": null,
 "allowComputeTiePoints": false,
 "useStandardizedQueries": true,
 "advancedQueryCapabilities": {
  "useStandardizedQueries": true,
  "supportsStatistics": true,
  "supportsOrderBy": true,
  "supportsDistinct": true,
  "supportsPagination": true
 },
 "spatialReference": {
  "wkid": 102646,
  "latestWkid": 2230
 }
}
