View In:
ArcGIS JavaScript
ArcGIS Online Map Viewer
ArcGIS Earth
ArcMap
View Footprint In:
ArcGIS Online Map Viewer
Service Description: Product: Hillshade created using merged Digital Elevation Model (DEM) data derived from Quality Level 2 LiDAR (USGS Base Specification) acquired through the San Diego regional partnership acquisition projects in 2014 and 2017, and the FEMA acquisition project in 2015. Class 2 (ground) LiDAR points in conjunction with the hydro breaklines were used to create 2.5-foot hydro-flattened raster DEMs from which contour lines were generated.Geographic Extent: San Diego County in southwestern California, covering approximately 4,475 total square miles.
Dataset Descriptions:
2014: The San Diego, California 2014 LiDAR project called for the Planning, Acquisition, processing and derivative products of LIDAR data to be collected at a nominal pulse spacing (NPS) of 0.7 meter. Project specifications are based on the U.S. Geological Survey National Geospatial Program Base LIDAR Specification, Version 1. The data was developed based on a horizontal projection/datum of NAD83, State Plane California VI, Survey Feet and vertical datum of NAVD1988 (GEOID12A), Survey Feet. LiDAR data was delivered in RAW flight line swath format, processed to create Classified LAS 1.2 Files formatted to 1565 individual 5000 ft x 5000 ft tiles, and corresponding Intensity Images and Bare Earth DEMs tiled to the same 5000 ft x 5000 ft schema, and Breaklines in Esri geodatabase format. Ground Conditions: LiDAR was collected in late 2014 and early 2015, while no snow was on the ground and rivers were at or below normal levels. In order to post process the LiDAR data to meet task order specifications, Photo Science established a total of 88 QA calibration control points and 80 Land Cover control points that were used to calibrate the LIDAR to known ground locations established throughout the San Diego, California project area.
2015: The San Diego, California 2015 QL2 LiDAR project called for the planning and acquisition of LIDAR data to be collected at a nominal pulse spacing (NPS) of 0.7 meter. Project specifications are based on the U.S. Geological Survey National Geospatial Program Base LIDAR Specification, Version 1.2. The data was developed based on a horizontal projection/datum of NAD83 (2011) State Plane California VI, US survey feet and vertical datum of NAVD1988 (GEOID12B), US survey feet. LiDAR data was delivered in RAW flight line swath format, processed to create Classified LAS 1.4 Files formatted to 2,045 individual 2,500-foot x 2,500-foot tiles, corresponding 2.5-ft hydro-flattened bare-earth DEMs tiled to the same 2,500-foot x 2,500-foot schema in ERDAS .IMG format, and Breaklines in Esri file geodatabase format. Ground Conditions: LiDAR was collected in late 2015, while no snow was on the ground and rivers were at or below normal levels. In order to post process the LiDAR data to meet task order specifications, Quantum Spatial established 39 calibration control points in order to calibrate the LIDAR to known ground locations established throughout the project area. The accuracy of the data was checked with 119 QC points.
2017: The Eastern San Diego County, California 2017 QL2 Lidar project called for the planning, acquisition, processing, and derivative products of lidar data to be collected at a nominal pulse spacing (NPS) of 0.7 meters. Project specifications are based on the U.S. Geological Survey National Geospatial Program Base Lidar Specification, Version 1.2. The data was developed based on a horizontal projection/datum of NAD83 (2011), State Plane California Zone VI, US survey feet and vertical datum of NAVD88 (GEOID12B), US survey feet. Lidar data was delivered as flightline-extent unclassified LAS swaths, as processed Classified LAS 1.4 files formatted to 1,710 individual 5,000-foot x 5,000-foot pilot tiles; as tiled intensity imagery, and as tiled bare earth DEMs, all tiled to the same schema. Continuous breaklines were produced in Esri file geodatabase format. Building footprints were produced in Esri file geodatabase format. Tiled contours with a 2-foot interval were produced in Esri file geodatabase format. Ground Conditions: Lidar was partially collected in fall/winter of late 2016/early 2017, while no snow was on the ground and rivers were at or below normal levels. In order to post process the lidar data to meet task order specifications and meet ASPRS vertical accuracy guidelines, Quantum Spatial, Inc. established a total of 28 ground control points that were used to calibrate the lidar to known ground locations established throughout the project area. An additional 116 independent accuracy checkpoints, 64 in Bare Earth and Urban landcovers (64 NVA points), 52 in the Forest, Shrubs, and Tall Weeds category (52 VVA points), were used to assess the vertical accuracy of the data. These checkpoints were not used to calibrate or post process the data.
Special Considerations: The data covering the Borrego Valley and surrounding area (Min X: 6499999.9998755, Min Y: 2014999.99983956, Max X: 6559999.999954, Max Y: 2084999.99993114) was developed by processing the swath LiDAR data from the 2017 Eastern San Diego County project, and merging with the 2015 Borrego Valley LiDAR data to create a new DEM. This was necessary to fill in the gap areas between the two acquisition projects. The four DEM datasets were then merged in the following order: Borrego Valley DEM, 2017 Eastern San Diego DEM, FEMA 2015 Central San Diego DEM, 2014 Western San Diego DEM.SANDAG has determined that this merged regionwide DEM is adequate for cartographic purposes. For analysis purposes, users may elect to use the original source data from each project. Refer to the metadata for each acquisition project for additional details.
Name: Elevation/SD_DEM_Hillshade
Description: Product: Hillshade created using merged Digital Elevation Model (DEM) data derived from Quality Level 2 LiDAR (USGS Base Specification) acquired through the San Diego regional partnership acquisition projects in 2014 and 2017, and the FEMA acquisition project in 2015. Class 2 (ground) LiDAR points in conjunction with the hydro breaklines were used to create 2.5-foot hydro-flattened raster DEMs from which contour lines were generated.Geographic Extent: San Diego County in southwestern California, covering approximately 4,475 total square miles.
Dataset Descriptions:
2014: The San Diego, California 2014 LiDAR project called for the Planning, Acquisition, processing and derivative products of LIDAR data to be collected at a nominal pulse spacing (NPS) of 0.7 meter. Project specifications are based on the U.S. Geological Survey National Geospatial Program Base LIDAR Specification, Version 1. The data was developed based on a horizontal projection/datum of NAD83, State Plane California VI, Survey Feet and vertical datum of NAVD1988 (GEOID12A), Survey Feet. LiDAR data was delivered in RAW flight line swath format, processed to create Classified LAS 1.2 Files formatted to 1565 individual 5000 ft x 5000 ft tiles, and corresponding Intensity Images and Bare Earth DEMs tiled to the same 5000 ft x 5000 ft schema, and Breaklines in Esri geodatabase format. Ground Conditions: LiDAR was collected in late 2014 and early 2015, while no snow was on the ground and rivers were at or below normal levels. In order to post process the LiDAR data to meet task order specifications, Photo Science established a total of 88 QA calibration control points and 80 Land Cover control points that were used to calibrate the LIDAR to known ground locations established throughout the San Diego, California project area.
2015: The San Diego, California 2015 QL2 LiDAR project called for the planning and acquisition of LIDAR data to be collected at a nominal pulse spacing (NPS) of 0.7 meter. Project specifications are based on the U.S. Geological Survey National Geospatial Program Base LIDAR Specification, Version 1.2. The data was developed based on a horizontal projection/datum of NAD83 (2011) State Plane California VI, US survey feet and vertical datum of NAVD1988 (GEOID12B), US survey feet. LiDAR data was delivered in RAW flight line swath format, processed to create Classified LAS 1.4 Files formatted to 2,045 individual 2,500-foot x 2,500-foot tiles, corresponding 2.5-ft hydro-flattened bare-earth DEMs tiled to the same 2,500-foot x 2,500-foot schema in ERDAS .IMG format, and Breaklines in Esri file geodatabase format. Ground Conditions: LiDAR was collected in late 2015, while no snow was on the ground and rivers were at or below normal levels. In order to post process the LiDAR data to meet task order specifications, Quantum Spatial established 39 calibration control points in order to calibrate the LIDAR to known ground locations established throughout the project area. The accuracy of the data was checked with 119 QC points.
2017: The Eastern San Diego County, California 2017 QL2 Lidar project called for the planning, acquisition, processing, and derivative products of lidar data to be collected at a nominal pulse spacing (NPS) of 0.7 meters. Project specifications are based on the U.S. Geological Survey National Geospatial Program Base Lidar Specification, Version 1.2. The data was developed based on a horizontal projection/datum of NAD83 (2011), State Plane California Zone VI, US survey feet and vertical datum of NAVD88 (GEOID12B), US survey feet. Lidar data was delivered as flightline-extent unclassified LAS swaths, as processed Classified LAS 1.4 files formatted to 1,710 individual 5,000-foot x 5,000-foot pilot tiles; as tiled intensity imagery, and as tiled bare earth DEMs, all tiled to the same schema. Continuous breaklines were produced in Esri file geodatabase format. Building footprints were produced in Esri file geodatabase format. Tiled contours with a 2-foot interval were produced in Esri file geodatabase format. Ground Conditions: Lidar was partially collected in fall/winter of late 2016/early 2017, while no snow was on the ground and rivers were at or below normal levels. In order to post process the lidar data to meet task order specifications and meet ASPRS vertical accuracy guidelines, Quantum Spatial, Inc. established a total of 28 ground control points that were used to calibrate the lidar to known ground locations established throughout the project area. An additional 116 independent accuracy checkpoints, 64 in Bare Earth and Urban landcovers (64 NVA points), 52 in the Forest, Shrubs, and Tall Weeds category (52 VVA points), were used to assess the vertical accuracy of the data. These checkpoints were not used to calibrate or post process the data.
Special Considerations: The data covering the Borrego Valley and surrounding area (Min X: 6499999.9998755, Min Y: 2014999.99983956, Max X: 6559999.999954, Max Y: 2084999.99993114) was developed by processing the swath LiDAR data from the 2017 Eastern San Diego County project, and merging with the 2015 Borrego Valley LiDAR data to create a new DEM. This was necessary to fill in the gap areas between the two acquisition projects. The four DEM datasets were then merged in the following order: Borrego Valley DEM, 2017 Eastern San Diego DEM, FEMA 2015 Central San Diego DEM, 2014 Western San Diego DEM.SANDAG has determined that this merged regionwide DEM is adequate for cartographic purposes. For analysis purposes, users may elect to use the original source data from each project. Refer to the metadata for each acquisition project for additional details.
Single Fused Map Cache: false
Extent:
XMin: 6150079.999875501
YMin: 1761209.9999311417
XMax: 6614999.999875501
YMax: 2129999.9999311417
Spatial Reference: 103008
(6426)
VCSWkid(105703)
LatestVCSWkid(6360)
Initial Extent:
XMin: 6150079.999875501
YMin: 1761209.9999311417
XMax: 6614999.999875501
YMax: 2129999.9999311417
Spatial Reference: 103008
(6426)
VCSWkid(105703)
LatestVCSWkid(6360)
Full Extent:
XMin: 6150079.999875501
YMin: 1761209.9999311417
XMax: 6614999.999875501
YMax: 2129999.9999311417
Spatial Reference: 103008
(6426)
VCSWkid(105703)
LatestVCSWkid(6360)
Pixel Size X: 2.5
Pixel Size Y: 2.5
Band Count: 1
Pixel Type: U8
RasterFunction Infos: {"rasterFunctionInfos": [{
"name": "None",
"description": "",
"help": ""
}]}
Mensuration Capabilities: Basic
Has Histograms: true
Has Colormap: false
Has Multi Dimensions : false
Rendering Rule:
Min Scale: 0
Max Scale: 0
Copyright Text: SANDAG, FEMA, County of San Diego
Service Data Type: esriImageServiceDataTypeGeneric
Min Values: 0
Max Values: 254
Mean Values: 169.42613047284
Standard Deviation Values: 43.201557114583
Object ID Field:
Fields:
None
Default Mosaic Method: Center
Allowed Mosaic Methods:
SortField:
SortValue: null
Mosaic Operator: First
Default Compression Quality: 75
Default Resampling Method: Bilinear
Max Record Count: null
Max Image Height: 4100
Max Image Width: 15000
Max Download Image Count: null
Max Mosaic Image Count: null
Allow Raster Function: true
Allow Copy: null
Allow Analysis: null
Allow Compute TiePoints: false
Supports Statistics: false
Supports Advanced Queries: false
Use StandardizedQueries: true
Raster Type Infos:
Name: Raster Dataset
Description: Supports all ArcGIS Raster Datasets
Help:
Has Raster Attribute Table: true
Edit Fields Info: null
Ownership Based AccessControl For Rasters: null
Child Resources:
Info
Raster Attribute Table
Histograms
Key Properties
Legend
Raster Function Infos
Supported Operations:
Export Image
Identify
Measure
Compute Histograms
Compute Statistics Histograms
Get Samples
Compute Class Statistics
Query Boundary
Compute Pixel Location
Validate
Project