View In:
ArcGIS JavaScript
ArcGIS Online Map Viewer
ArcGIS Earth
ArcMap
View Footprint In:
ArcGIS Online Map Viewer
Service Description: 2023 9" resolution imagery for the San Diego region. Imagery was acquired as part of the San Diego regional aerial imagery acquisition partnership. Image source is Nearmap, and is a resampled regional dataset developed for public access.
Additional product information can be reviewed via the following links:
https://gis.sandag.org/docs/NEARMAP-MetadataSummary.pdf, and https://docs.nearmap.com/display/ND/NEARMAP+CONTENT
Name: Imagery/SD2023_9inch
Description: 2023 9" resolution imagery for the San Diego region. Imagery was acquired as part of the San Diego regional aerial imagery acquisition partnership. Image source is Nearmap, and is a resampled regional dataset developed for public access.
Additional product information can be reviewed via the following links:
https://gis.sandag.org/docs/NEARMAP-MetadataSummary.pdf, and https://docs.nearmap.com/display/ND/NEARMAP+CONTENT
Single Fused Map Cache: false
Extent:
XMin: 6150431.25
YMin: 1774967.25
XMax: 6615072.75
YMax: 2131368.75
Spatial Reference: 102646
(2230)
Initial Extent:
XMin: 6150431.25
YMin: 1774967.25
XMax: 6615072.75
YMax: 2131368.75
Spatial Reference: 102646
(2230)
Full Extent:
XMin: 6150431.25
YMin: 1774967.25
XMax: 6615072.75
YMax: 2131368.75
Spatial Reference: 102646
(2230)
Pixel Size X: 0.75
Pixel Size Y: 0.75
Band Count: 3
Pixel Type: U8
RasterFunction Infos: {"rasterFunctionInfos": [
{
"name": "None",
"description": "A No-Op Function.",
"help": ""
},
{
"name": "None",
"description": "A No-Op Function.",
"help": ""
}
]}
Mensuration Capabilities: None
Has Histograms: true
Has Colormap: false
Has Multi Dimensions : false
Rendering Rule:
Min Scale: 0
Max Scale: 0
Copyright Text: SANDAG; SanGIS; Nearmap
Service Data Type: esriImageServiceDataTypeRGB
Min Values: 0, 0, 0
Max Values: 255, 255, 255
Mean Values: 119.07302508356464, 117.14471936381656, 114.34249531535372
Standard Deviation Values: 60.713355024841626, 53.71535274199147, 47.1769362596526
Object ID Field: OBJECTID
Fields:
-
OBJECTID
(
type: esriFieldTypeOID, alias: OBJECTID
)
-
Shape
(
type: esriFieldTypeGeometry, alias: Shape
)
-
Name
(
type: esriFieldTypeString, alias: Name, length: 200
)
-
MinPS
(
type: esriFieldTypeDouble, alias: MinPS
)
-
MaxPS
(
type: esriFieldTypeDouble, alias: MaxPS
)
-
LowPS
(
type: esriFieldTypeDouble, alias: LowPS
)
-
HighPS
(
type: esriFieldTypeDouble, alias: HighPS
)
-
Category
(
type: esriFieldTypeInteger, alias: Category
, Coded Values:
[0: Unknown]
, [1: Primary]
, [2: Overview]
, ...6 more...
)
-
Tag
(
type: esriFieldTypeString, alias: Tag, length: 100
)
-
GroupName
(
type: esriFieldTypeString, alias: GroupName, length: 100
)
-
ProductName
(
type: esriFieldTypeString, alias: ProductName, length: 100
)
-
CenterX
(
type: esriFieldTypeDouble, alias: CenterX
)
-
CenterY
(
type: esriFieldTypeDouble, alias: CenterY
)
-
ZOrder
(
type: esriFieldTypeInteger, alias: ZOrder
)
-
Shape_Length
(
type: esriFieldTypeDouble, alias: Shape_Length
)
-
Shape_Area
(
type: esriFieldTypeDouble, alias: Shape_Area
)
Default Mosaic Method: Northwest
Allowed Mosaic Methods: NorthWest,Center,LockRaster,ByAttribute,Nadir,Viewpoint,Seamline,None
SortField:
SortValue: null
Mosaic Operator: First
Default Compression Quality: 75
Default Resampling Method: Bilinear
Max Record Count: 1000
Max Image Height: 4100
Max Image Width: 15000
Max Download Image Count: 20
Max Mosaic Image Count: 20
Allow Raster Function: true
Allow Copy: true
Allow Analysis: true
Allow Compute TiePoints: false
Supports Statistics: true
Supports Advanced Queries: true
Use StandardizedQueries: true
Raster Type Infos:
Name: Raster Dataset
Description: Supports all ArcGIS Raster Datasets
Help:
Has Raster Attribute Table: false
Edit Fields Info: null
Ownership Based AccessControl For Rasters: null
Child Resources:
Info
Histograms
Statistics
Key Properties
Legend
Raster Function Infos
Supported Operations:
Export Image
Query
Identify
Compute Histograms
Compute Statistics Histograms
Get Samples
Compute Class Statistics
Query Boundary
Compute Pixel Location
Validate
Project